BEGIN:VCALENDAR
VERSION:2.0
PRODID:-//https://www.unitychapelhill.org///NONSGML kigkonsult.se iCalcreator 2.10.15//
METHOD:PUBLISH
BEGIN:VEVENT
UID:20260419T130700UTC-7106uduXrk@https://www.unitychapelhill.org/
DTSTAMP:20260419T130700Z
DESCRIPTION:For residents and friends of the Carol Woods Community\, we off
 er a relaxed Sunday service and discussion group.&nbsp\; Meets first Sunda
 y of the month.&nbsp\; For more information contact Rev. Rosemary Hyde at 
 Rosemary@Unitychapelhill.org https://www.unitychapelhill.org/what-s-happen
 ing/calendar/event/75-carol-woods-discussion-group.html
DTSTART:20180701T200000Z
DTEND:20180701T210000Z
LOCATION:Carol Woods Assisted Living  (750 Weaver Dairy Rd\, Chapel Hill\, 
 NC 27514\, USA)
SUMMARY:Carol Woods Discussion Group
URL:https://www.unitychapelhill.org/what-s-happening/calendar/event/75-caro
 l-woods-discussion-group.html
END:VEVENT
END:VCALENDAR
