BEGIN:VCALENDAR
VERSION:2.0
PRODID:-//https://www.unitychapelhill.org///NONSGML kigkonsult.se iCalcreator 2.10.15//
METHOD:PUBLISH
BEGIN:VEVENT
UID:20260419T144440UTC-6849v9hBUE@https://www.unitychapelhill.org/
DTSTAMP:20260419T144440Z
DESCRIPTION:The Board of Trustees meets in the Ministry Office. If you have
  questions or would like to present to the Board\, please contact one of t
 he members of the Board. https://www.unitychapelhill.org/what-s-happening/
 calendar/event/745-board-of-trustees-meeting.html
DTSTART:20191015T223000Z
DTEND:20191016T003000Z
LOCATION:UCP Ministry Office (8800 Seawell School Rd\, Chapel Hill\, NC 275
 16\, USA)
SUMMARY:Board of Trustees Meeting
URL:https://www.unitychapelhill.org/what-s-happening/calendar/event/745-boa
 rd-of-trustees-meeting.html
END:VEVENT
END:VCALENDAR
