BEGIN:VCALENDAR
VERSION:2.0
PRODID:-//https://www.unitychapelhill.org///NONSGML kigkonsult.se iCalcreator 2.10.15//
METHOD:PUBLISH
BEGIN:VEVENT
UID:20260419T130721UTC-4326iX2I2V@https://www.unitychapelhill.org/
DTSTAMP:20260419T130721Z
DESCRIPTION:Come join us in our Sacred Celebration service.\nView upcoming 
 services and topics\nView past services https://www.unitychapelhill.org/wh
 at-s-happening/calendar/event/524-sacred-celebration-service.html
DTSTART:20190310T150000Z
DTEND:20190310T161500Z
LOCATION:Unity Center of Peace Campus (8800 Seawell School Road\, Chapel Hi
 ll\, NC 27516 USA)
SUMMARY:Sacred Celebration Service
URL:https://www.unitychapelhill.org/what-s-happening/calendar/event/524-sac
 red-celebration-service.html
END:VEVENT
END:VCALENDAR
