BEGIN:VCALENDAR
VERSION:2.0
PRODID:-//https://www.unitychapelhill.org///NONSGML kigkonsult.se iCalcreator 2.10.15//
METHOD:PUBLISH
BEGIN:VEVENT
UID:20260419T130517UTC-82374UpU4X@https://www.unitychapelhill.org/
DTSTAMP:20260419T130517Z
DESCRIPTION:Please see Upcoming Services for details. https://www.unitychap
 elhill.org/what-s-happening/calendar/event/46-sacred-celebration-service.h
 tml
DTSTART:20180610T150000Z
DTEND:20180610T161500Z
LOCATION:Unity Center of Peace Campus (8800 Seawell School Road\, Chapel Hi
 ll\, NC 27516 USA)
SUMMARY:Sacred Celebration Service
URL:https://www.unitychapelhill.org/what-s-happening/calendar/event/46-sacr
 ed-celebration-service.html
END:VEVENT
END:VCALENDAR
