BEGIN:VCALENDAR
VERSION:2.0
PRODID:-//https://www.unitychapelhill.org///NONSGML kigkonsult.se iCalcreator 2.10.15//
METHOD:PUBLISH
BEGIN:VEVENT
UID:20260419T130700UTC-3129hephFV@https://www.unitychapelhill.org/
DTSTAMP:20260419T130700Z
DESCRIPTION:We look forward to welcoming you\, your friends\, and your fami
 lies to our annual Christmas Eve service. Please join us for a radiant ser
 vice featuring inspirational singers\, Unity's 12 Powers readings\, congre
 gational songs of the season\, and Christmas Eve candle lighting! Come joi
 n your heart and your light with others and together we will celebrate the
  birth of the Christ Consciousness in all. https://www.unitychapelhill.org
 /what-s-happening/calendar/event/438-christmas-eve-service.html
DTSTART:20181225T000000Z
DTEND:20181225T010000Z
LOCATION:Unity Center of Peace Campus (8800 Seawell School Road\, Chapel Hi
 ll\, NC 27516 USA)
SUMMARY:Christmas Eve Service
URL:https://www.unitychapelhill.org/what-s-happening/calendar/event/438-chr
 istmas-eve-service.html
END:VEVENT
END:VCALENDAR
