BEGIN:VCALENDAR
VERSION:2.0
PRODID:-//https://www.unitychapelhill.org///NONSGML kigkonsult.se iCalcreator 2.10.15//
METHOD:PUBLISH
BEGIN:VEVENT
UID:20260419T130353UTC-0891TFxJzM@https://www.unitychapelhill.org/
DTSTAMP:20260419T130353Z
DESCRIPTION:For our Sunday Service on November 25th\, we will be creating a
  'Living Altar' together and you are invited to participate! Please start 
 thinking about an object that is sacred to you\, that reminds you of your 
 spiritual nature\, or wholeness\, or peace\, etc.\, and bring it with you 
 to place on our altar that day. You are also invited to share with us brie
 fly why it's special to you. Some ideas might be a photo\, a statue of a s
 piritual master\, an acorn\, a crystal\, or a leaf. Also welcome are short
  poems\, readings\, or a part of a song that is meaningful to you. (You ar
 e free to take your item home after the service.) https://www.unitychapelh
 ill.org/what-s-happening/calendar/event/432-creating-a-living-altar.html
DTSTART:20181125T160000Z
DTEND:20181125T171500Z
LOCATION:Unity Center of Peace Campus (8800 Seawell School Road\, Chapel Hi
 ll\, NC 27516 USA)
SUMMARY:Creating a Living Altar
URL:https://www.unitychapelhill.org/what-s-happening/calendar/event/432-cre
 ating-a-living-altar.html
END:VEVENT
END:VCALENDAR
