BEGIN:VCALENDAR
VERSION:2.0
PRODID:-//https://www.unitychapelhill.org///NONSGML kigkonsult.se iCalcreator 2.10.15//
METHOD:PUBLISH
BEGIN:VEVENT
UID:20260419T143548UTC-4701PPvM8C@https://www.unitychapelhill.org/
DTSTAMP:20260419T143548Z
DESCRIPTION:A Course in Miracles discussion group. 'Removing the blocks to 
 the awareness of love's presence.' Meets in the Sanctuary 2nd and 4th Sund
 ays. Contact info: Cameron Skidmore at cameron.o.skidmore@gmail.com https:
 //www.unitychapelhill.org/what-s-happening/calendar/event/1369-a-course-in
 -miracles-discussion-group.html
DTSTART:20200210T000000Z
DTEND:20200210T013000Z
LOCATION:Unity Center of Peace Campus (8800 Seawell School Road\, Chapel Hi
 ll\, NC 27516 USA)
SUMMARY:A Course in Miracles Discussion Group
URL:https://www.unitychapelhill.org/what-s-happening/calendar/event/1369-a-
 course-in-miracles-discussion-group.html
END:VEVENT
END:VCALENDAR
