BEGIN:VCALENDAR
VERSION:2.0
PRODID:-//https://www.unitychapelhill.org///NONSGML kigkonsult.se iCalcreator 2.10.15//
METHOD:PUBLISH
BEGIN:VEVENT
UID:20260419T144502UTC-6150nDfOKh@https://www.unitychapelhill.org/
DTSTAMP:20260419T144502Z
DESCRIPTION:The Board of Trustees meets in the Ministry Office. If you have
  questions or would like to present to the Board\, please contact one of t
 he members of the Board. https://www.unitychapelhill.org/what-s-happening/
 calendar/event/1313-board-of-trustees-meeting.html
DTSTART:20201020T223000Z
DTEND:20201021T003000Z
LOCATION:UCP Ministry Office (8800 Seawell School Rd\, Chapel Hill\, NC 275
 16\, USA)
SUMMARY:Board of Trustees Meeting
URL:https://www.unitychapelhill.org/what-s-happening/calendar/event/1313-bo
 ard-of-trustees-meeting.html
END:VEVENT
END:VCALENDAR
